BEGIN:VCALENDAR
VERSION:2.0
PRODID:-//eventon.com NONSGML v1.0//EN
BEGIN:VEVENT
UID:69e9e6bf3665d
DTSTAMP:20260423T053039
DTSTART:20210711T130000Z
DTEND:20210711T170000Z
LOCATION:QCDS Headquarters 86-90 188th Street\,  Jamaica NY
SUMMARY:CPR Basic Life Support Certification
DESCRIPTION: Course Title: CPR Basic Life Support Certification Presenter: Have Dummy Will Travel BLS Instructor Date: July 11th\,  2021 Time: 9:00 AM – 1:00 PM EST Location: QCDS Headquarters\,  86-90 188th Street\,  Jamaica NY Credits: 4 Course Description: Basic Cardiac Life Support Certification will cover 1 & 2 rescuer CPR\,  Heimlich[..]
END:VEVENT
END:VCALENDAR