BEGIN:VCALENDAR
VERSION:2.0
PRODID:-//eventon.com NONSGML v1.0//EN
BEGIN:VEVENT
UID:69e9ed08d4b73
DTSTAMP:20260423T055728
DTSTART:20260111T120000Z
DTEND:20260111T210000Z
LOCATION:
SUMMARY:ENDODONTICS & ORTHODONTICS IN PEDIATRIC DENTISTRY
DESCRIPTION: Course title: Two Important but Overlooked Topics in Pediatric Dentistry Date: Sunday January 11th\,  2026 Time: 8am Location: Live Webinar Zoom Course Description: 
END:VEVENT
END:VCALENDAR