BEGIN:VCALENDAR
VERSION:2.0
PRODID:-//eventon.com NONSGML v1.0//EN
BEGIN:VEVENT
UID:69e8b568da8ed
DTSTAMP:20260422T074752
DTSTART:20260412T120000Z
DTEND:20260412T210000Z
LOCATION:
SUMMARY:DENTISTRY 2026 & BEYOND
DESCRIPTION: Course title: DENTISTRY 2026 & BEYOND Date: Sunday April 12th\,  2026 Time: 8am - 5pm Location: Virtually via zoom Course Description: 
END:VEVENT
END:VCALENDAR